BEGIN:VCALENDAR
VERSION:2.0
PRODID:-//The College Experience - ECPv6.11.0//NONSGML v1.0//EN
CALSCALE:GREGORIAN
METHOD:PUBLISH
X-WR-CALNAME:The College Experience
X-ORIGINAL-URL:https://thecollegeexperience.org
X-WR-CALDESC:Events for The College Experience
REFRESH-INTERVAL;VALUE=DURATION:PT1H
X-Robots-Tag:noindex
X-PUBLISHED-TTL:PT1H
BEGIN:VTIMEZONE
TZID:America/New_York
BEGIN:DAYLIGHT
TZOFFSETFROM:-0500
TZOFFSETTO:-0400
TZNAME:EDT
DTSTART:20250309T070000
END:DAYLIGHT
BEGIN:STANDARD
TZOFFSETFROM:-0400
TZOFFSETTO:-0500
TZNAME:EST
DTSTART:20251102T060000
END:STANDARD
END:VTIMEZONE
BEGIN:VEVENT
DTSTART;TZID=America/New_York:20250519T180000
DTEND;TZID=America/New_York:20250519T200000
DTSTAMP:20260420T074426
CREATED:20250516T144232Z
LAST-MODIFIED:20250516T144232Z
UID:19030-1747677600-1747684800@thecollegeexperience.org
SUMMARY:Cinemania! Amityville 3-D at the Pine Hills Branch Library
DESCRIPTION:🎬 Cinemania! Amityville 3-D (1983)\nWHEN: Monday\, May 19\, 2025\, 6:00 PM – 8:00 PM\nWHERE: Pine Hills Branch – Large Meeting Room\, 517 Western Ave\, Albany\, NY 12203\nCOST: Free\nBUS:\nDETAILS: [Ages 18+] Are you into movies? Perhaps you enjoy cult classics! Welcome to Cinemania! Now in 3D!\n Experience classic red-and-blue 3D visuals in an unforgettable movie night. The movie will be projected on a massive 10-by-6-foot silver screen\, because big screens are for big dreams.\n This month’s film is Amityville 3D (1983)\, directed by Richard Fleischer.\n 3D glasses will be provided at the event. \nAmityville 3D brings the horror to life with 3D effects as skeptical journalist John Baxter moves into the infamous house\, only to face terrifying supernatural forces that threaten him and his loved ones. \nJoin us at the Pine Hills Branch as we revisit some of the coolest cult movies ever produced. We will enjoy the weird\, the strange and (sometimes) the poorly made films that we all love so much!\nWEBSITE: https://albany.librarycalendar.com/event/blocked-potential-mon-evening-programming-jim-38907
URL:https://thecollegeexperience.org/ceevents/cinemania-amityville-3-d-at-the-pine-hills-branch-library/
END:VEVENT
BEGIN:VEVENT
DTSTART;TZID=America/New_York:20250519T173000
DTEND;TZID=America/New_York:20250519T190000
DTSTAMP:20260420T074426
CREATED:20250516T143754Z
LAST-MODIFIED:20250516T143938Z
UID:19029-1747675800-1747681200@thecollegeexperience.org
SUMMARY:Spam Musubi @ the Howe Branch Library
DESCRIPTION:🍙 Spam Musubi \nWHEN: Monday\, May 19\, 2025\, 5:30 PM – 7:00 PM \nWHERE: Howe Branch – Large Meeting Room\, 105 Schuyler Street\, Albany\, NY 12202 \nCOST: Free (Registration required) \nBUS: 910/10 to 100\, 114\, 106 \nDETAILS: Is a snack and lunch food composed of a slice of grilled Spam sandwiched either in between or on top of a block of rice\, wrapped together with nori in the tradition of Japanese onigiri. Inexpensive and portable\, Spam musubi are commonly found near cash registers in convenience stores or mom-and-pop shops all over Hawaii and in Hawaiian barbecue restaurants in the mainland United States. Come make a Spam Musubi and talk and listen to Music from Hawaii where this treat comes from! \nWEBSITE: https://albany.librarycalendar.com/event/spam-musubi-43380
URL:https://thecollegeexperience.org/ceevents/spam-musubi-the-howe-branch-library/
END:VEVENT
BEGIN:VEVENT
DTSTART;TZID=America/New_York:20250519T173000
DTEND;TZID=America/New_York:20250519T181500
DTSTAMP:20260420T074426
CREATED:20250516T143418Z
LAST-MODIFIED:20250516T143418Z
UID:19028-1747675800-1747678500@thecollegeexperience.org
SUMMARY:Zoom Writing Event- "Deal Me a Story"
DESCRIPTION:✍️ Deal Me A Story! \nWHEN: Monday\, May 19\, 2025\, 5:30 PM – 6:15 PM \nWHERE: Online via Zoom \nCOST: Free (Registration required) \nBUS: \nDETAILS: (7+) Hey you! Yes you. Do you have a story that you want to tell\, but you don’t know how to start it? Or are you stumped on how your cast of characters might play out in certain situations? Well\, this might be the program for you. This is a quick writing session with a fun twist to help you springboard ideas that can turn into full short stories or novels later! ON ZOOM ONLY! \nWEBSITE: https://albany.librarycalendar.com/event/deal-me-story-43289
URL:https://thecollegeexperience.org/ceevents/zoom-writing-event-deal-me-a-story/
END:VEVENT
BEGIN:VEVENT
DTSTART;TZID=America/New_York:20250517T090000
DTEND;TZID=America/New_York:20250517T140000
DTSTAMP:20260420T074426
CREATED:20250516T163132Z
LAST-MODIFIED:20250516T163236Z
UID:19070-1747472400-1747490400@thecollegeexperience.org
SUMMARY:Troy Waterfront Farmers Market
DESCRIPTION:WHEN: Every Saturday\, 9am – 2pm \nWHERE: Nov- April Inside the Troy Atrium. May- Oct\, the market is all along River St and around Monument Square\, flowing onto 1st\, 2nd\, and Broadway. You can use Monument Square\, Troy\, NY 12180 as your destination on Google Maps. \nCOST: Free to attend\, but bring $10 – $20 to purchase anything \nBUS: take bus #10 downtown to catch bus #22\, #922\, or #923 \nBus Stop to get off at: 4th and Fulton St. in Troy \nHeld every Saturday\, year-round\, the Troy Waterfront Farmers Market is one of the most popular attractions in New York’s Capital Region. \nNovember to April the market is held within the Troy AtriMay through October\, the market transforms the heart of downtown Troy into an open-air street festival that could easily pass for a scene in Europe. On the busiest Saturdays\, as many as 15\,000 people visit the market to shop for fresh local produce\, meats\, seafood\, prepared foods and handmade crafts. Couples\, families\, college students and neighborhood regulars all mingle in Monument Square and on the surrounding streets\, milling around between the tents\, sidewalk tables and music stages. \nMany stay to socialize and explore the charming shops and vibrant eateries in one of the most perfectly preserved 19th-century downtowns in the United States. \nToday\, the Troy Waterfront Farmers Market routinely receives “Best of” accolades by regional media and in reader polls. In 2019\, the market earned the American Farmland Trust’s People’s Choice award for Number 1 farmers market in the nation. \nWe now have more than 100 local\, producer-only vendors. Check out our Vendors page to find out more or Contact Us if you’re looking for a specific item!
URL:https://thecollegeexperience.org/ceevents/troy-waterfront-farmers-market-34/
END:VEVENT
BEGIN:VEVENT
DTSTART;TZID=America/New_York:20250516T000000
DTEND;TZID=America/New_York:20250516T000000
DTSTAMP:20260420T074426
CREATED:20250516T162627Z
LAST-MODIFIED:20250516T162803Z
UID:19068-1747353600-1747353600@thecollegeexperience.org
SUMMARY:Valley Cats Homestand Weekend Event!
DESCRIPTION:⚾ Valley Cats Homestand Weekend Event! \nWHEN: Friday May 16 – Sunday\, May 18\, 2025 \nTimes vary\, check website \nWHERE: Joseph L. Bruno Stadium\, Troy\, NY  \nCOST: Ticket prices vary purchase ticket here \nBUS: Discuss in class \nDETAILS: Catch an exciting baseball game and enjoy fun events all weekend long! \nWEBSITE: https://www.milb.com/tri-city-valleycats
URL:https://thecollegeexperience.org/ceevents/valley-cats-homestand-weekend-event/
END:VEVENT
BEGIN:VEVENT
DTSTART;VALUE=DATE:20250509
DTEND;VALUE=DATE:20250510
DTSTAMP:20260420T074426
CREATED:20250425T130748Z
LAST-MODIFIED:20250430T172151Z
UID:18967-1746748800-1746835199@thecollegeexperience.org
SUMMARY:Senior Brunch at the Renaissance Room!
DESCRIPTION:When: Friday May 9! Time TBD \nWhere: Armory Renaissance Room \nAll CEP students are invited to our Annual Senior Brunch! Come celebrate the end of your Senior year and upcoming graduation! \n 
URL:https://thecollegeexperience.org/ceevents/senior-brunch-at-the-renaissance-room/
END:VEVENT
BEGIN:VEVENT
DTSTART;TZID=America/New_York:20250507T180000
DTEND;TZID=America/New_York:20250507T190000
DTSTAMP:20260420T074426
CREATED:20250505T121741Z
LAST-MODIFIED:20250505T121741Z
UID:19014-1746640800-1746644400@thecollegeexperience.org
SUMMARY:Meditation Workshop at the Pine Hills Branch Library
DESCRIPTION:🧘‍♀️ Wellness Series: Meditation Workshop with Elissa Kane – How to uncover moments of peace in these uncertain times\n \nWHEN: Wednesday\, May 7\, 2025\, 6:00 PM – 7:00 PM\nWHERE: Pine Hills Branch\, Small Meeting Room\, 517 Western Avenue\, Albany\, NY\nCOST: Free (Registration required) Click Here\nBUS: 910/10 \n\nDETAILS: Learn a simple yet effective meditation technique that helps quiet the mind and provide clarity in uncertain times. Each session includes guided meditation and reflections on teachings from Living Beautifully with Uncertainty and Change by Pema Chödrön. Led by longtime meditation teacher Elissa Kane. \n\nWebsite: https://albany.librarycalendar.com/event/wellness-series-tbd-managing-stress-times-uncertainty-40491 \n 
URL:https://thecollegeexperience.org/ceevents/meditation-workshop-at-the-pine-hills-branch-library/
END:VEVENT
BEGIN:VEVENT
DTSTART;TZID=America/New_York:20250506T190000
DTEND;TZID=America/New_York:20250506T210000
DTSTAMP:20260420T074426
CREATED:20250505T122446Z
LAST-MODIFIED:20250505T122446Z
UID:19017-1746558000-1746565200@thecollegeexperience.org
SUMMARY:Movie Showing: The Birds at Proctor's Theater
DESCRIPTION:🎬 ICFS and Union College Film Studies present: The Birds (1963) \nWHEN: Tuesday\, May 6\, 2025 @ 7:00 PM \nWHERE: Proctors Theatre\, 432 State Street\, Schenectady\, NY \nCOST: $10 General Admission; $7 for seniors (62+)\, students with ID\, and children 17 and under (not available online) \nBUS: 905\, 355 \nDETAILS: As part of the “Hitchcock: The Dark Side of Genius” series\, this classic thriller tells the story of a socialite caught in a series of unexplained bird attacks in a seaside town. Features Tippi Hedren\, Rod Taylor\, Jessica Tandy\, and others. Includes an intro and post-film Q&A by RPI professor Michael Oatman. Rated PG-13. Run time: 119 minutes.\nWebsite: https://www.atproctors.org/event/icfs-and-union-college-film-studies-present-the-birds-1963/
URL:https://thecollegeexperience.org/ceevents/movie-showing-the-birds-at-proctors-theater/
END:VEVENT
BEGIN:VEVENT
DTSTART;TZID=America/New_York:20250506T190000
DTEND;TZID=America/New_York:20250506T210000
DTSTAMP:20260420T074426
CREATED:20250428T132612Z
LAST-MODIFIED:20250428T132715Z
UID:18991-1746558000-1746565200@thecollegeexperience.org
SUMMARY:🎤 Monday Mopco Improv Theatre! Workout Night
DESCRIPTION:🎤 Monday Workout Night at Mopco Improv Theatre \nWHEN: Mondays (recurring)\, 7:00 PM – 9:00 PM \nWHERE: Mopco Improv Theatre\, Schenectady\, NY \nCOST: $7 \nBUS: 905\, 10 to 355 \nDETAILS: Participate in a lively improv comedy workout suitable for all skill levels. \nWebsite: https://mopcoimprov.ticketspice.com/monday-workout-night-at-the-mopco
URL:https://thecollegeexperience.org/ceevents/%f0%9f%8e%a4-monday-mopco-improv-theatre-workout-night-2/
END:VEVENT
BEGIN:VEVENT
DTSTART;TZID=America/New_York:20250506T180000
DTEND;TZID=America/New_York:20250506T190000
DTSTAMP:20260420T074426
CREATED:20250505T122315Z
LAST-MODIFIED:20250505T122315Z
UID:19016-1746554400-1746558000@thecollegeexperience.org
SUMMARY:Crafting Event : Yarn Over and Yap at the Delaware Library
DESCRIPTION:🧶 Yarn Over and Yap @ Delaware\n \nWHEN: Tuesday\, May 6\, 2025\, 6:00 PM – 7:30 PM\nWHERE: Delaware Branch\, Community Room\, 331 Delaware Avenue\, Albany\, NY\nCOST: Free\nBUS: 106\, 18\nDETAILS: Bring your knitting\, crochet\, needlework\, coloring\, or any other craft project to this friendly monthly meetup. Chat\, laugh\, and enjoy a movie while you work on your creations.  \n\nWebsite: https://albany.librarycalendar.com/event/hold-yarnover-and-yap-31154
URL:https://thecollegeexperience.org/ceevents/crafting-event-yarn-over-and-yap-at-the-delaware-library/
END:VEVENT
BEGIN:VEVENT
DTSTART;TZID=America/New_York:20250504T210000
DTEND;TZID=America/New_York:20250504T230000
DTSTAMP:20260420T074426
CREATED:20250428T131721Z
LAST-MODIFIED:20250428T131756Z
UID:18987-1746392400-1746399600@thecollegeexperience.org
SUMMARY:Late Night Pancakes at Kahl!
DESCRIPTION:🥞 Late Night Pancakes\n WHEN: Sunday\, May 4\, 2025\, 9:00 PM – 11:00 PM\n WHERE: Kahl Campus Center Cafeteria\, Russell Sage College\, Albany\, NY\n COST: Free\n BUS: 100 Please travel with a Buddy \n DETAILS: Celebrate the end of the semester with a late-night breakfast feast! Pancakes and more served in the KCC Cafeteria.\n Website: https://sage.edu/events/?trumbaEmbed=view%3Devent%26eventid%3D182262247 \n \n 
URL:https://thecollegeexperience.org/ceevents/late-night-pancakes-at-kahl/
END:VEVENT
BEGIN:VEVENT
DTSTART;TZID=America/New_York:20250504T140000
DTEND;TZID=America/New_York:20250504T163000
DTSTAMP:20260420T074426
CREATED:20250425T125618Z
LAST-MODIFIED:20250425T125618Z
UID:18965-1746367200-1746376200@thecollegeexperience.org
SUMMARY:Daryan's Spaghetti Dinner Event
DESCRIPTION:When: Sunday 2:00- 4:30pm \nWhere: Daryan’s Apartment at 839 Lancaster \nCost: Free \nTravel: Walk or bus \nDaryan says “I want host this event so people can have fun and enjoyment! The cost of everything is free you can bring drinks dont bring any food ill be making a lot of pasta!!”
URL:https://thecollegeexperience.org/ceevents/daryans-spaghetti-dinner-event/
END:VEVENT
BEGIN:VEVENT
DTSTART;TZID=America/New_York:20250504T130000
DTEND;TZID=America/New_York:20250504T150000
DTSTAMP:20260420T074426
CREATED:20250428T141433Z
LAST-MODIFIED:20250428T141433Z
UID:19006-1746363600-1746370800@thecollegeexperience.org
SUMMARY:Meet Up Hike with the Friends of the Pine Bush Community
DESCRIPTION:🥾MeetUp Hike with the Friends of the Pine Bush Community \nWHEN: Sunday\, May 4\, 2025\, 1:00 PM \nWHERE: Trailhead #7 Madison Avenue Pinelands\, Albany Pine Bush Preserve\, Albany\, NY \nCOST: Free (Registration required) \nBUS: 905  \nDETAILS: Join the Friends of the Pine Bush Community for a guided afternoon hike. Great for those participating in the 20 Mile Challenge. Registration is required. Part of the 2025 Lupine Fest passport program — participate to win prizes! \nWebsite: https://albanypinebush.org/index.php?section=visit-calendar&evtid=1910
URL:https://thecollegeexperience.org/ceevents/meet-up-hike-with-the-friends-of-the-pine-bush-community/
END:VEVENT
BEGIN:VEVENT
DTSTART;TZID=America/New_York:20250504T120000
DTEND;TZID=America/New_York:20250504T140000
DTSTAMP:20260420T074426
CREATED:20250430T055053Z
LAST-MODIFIED:20250502T164305Z
UID:19010-1746360000-1746367200@thecollegeexperience.org
SUMMARY:Hank's Hedbanz Senior Event
DESCRIPTION:WHEN: Sunday\, May 4\, 2025 at 12pm \nWHERE: 2A South Main Ave \nCost: Free but bring a snack 🙂 \nTravel: Walk \nJoin Hank for a fun afternoon of Hedbanz! He says ” I wanted to host this event before graduation\, so I could challenge my houseguests to play a series of rounds in a quick question game of “What Am I?”.
URL:https://thecollegeexperience.org/ceevents/hanks-headband-senior-event/
END:VEVENT
BEGIN:VEVENT
DTSTART;VALUE=DATE:20250504
DTEND;VALUE=DATE:20250505
DTSTAMP:20260420T074426
CREATED:20250428T131356Z
LAST-MODIFIED:20250428T131441Z
UID:18985-1746316800-1746403199@thecollegeexperience.org
SUMMARY:Softball Game! Nazareth VS Russell Sage
DESCRIPTION:🥎 (Softball) Nazareth vs. Russell Sage College (Game One)\n WHEN: Sunday\, May 4\, 2025 (Time not specified) TBD\n WHERE: Plumeri Sports Complex\, 20 Frisbie Avenue\, Albany\, NY\n COST: Free\n BUS: 22\, 922\, 923\, RS Shuttle\n DETAILS: Rescheduled game: Nazareth College faces Russell Sage College at Plumeri Complex. Originally scheduled for April 6.\n Website: https://sage.edu/events/?trumbaEmbed=view%3Devent%26eventid%3D182305057
URL:https://thecollegeexperience.org/ceevents/18985/
END:VEVENT
BEGIN:VEVENT
DTSTART;TZID=America/New_York:20250503T203000
DTEND;TZID=America/New_York:20250503T220000
DTSTAMP:20260420T074426
CREATED:20250428T135454Z
LAST-MODIFIED:20250428T135454Z
UID:19000-1746304200-1746309600@thecollegeexperience.org
SUMMARY:Candlelight: From Back to the Beatles
DESCRIPTION:⭐ Candlelight: From Bach to The Beatles \nWHEN: Friday\, May 2\, 2025\, 8:30 PM \nWHERE: The Venue\, 65 Congress St\, Cohoes\, NY 12047 \nCOST: Tickets start at $37.00 + fees (prices vary based on seating zone) \nBUS:  \nDETAILS: Candlelight concerts feature iconic music performed in a beautiful\, candle-lit setting. \nWebsite: https://feverup.com/m/319521
URL:https://thecollegeexperience.org/ceevents/candlelight-from-back-to-the-beatles/
END:VEVENT
BEGIN:VEVENT
DTSTART;TZID=America/New_York:20250503T193000
DTEND;TZID=America/New_York:20250503T213000
DTSTAMP:20260420T074426
CREATED:20250425T125009Z
LAST-MODIFIED:20250425T125125Z
UID:18963-1746300600-1746307800@thecollegeexperience.org
SUMMARY:Music of John Williams
DESCRIPTION:Music of John Williams\nWhen: Saturday\, May 3\, 2025 7:30 PM  9:30 PM \nWhere: Palace Theatre19 Clinton Ave\, Albany\, NY\, 12207 \nCost: Ticket Price Varies Buy Tickets HERE \nTravel: Discuss in class \nThe music of John Williams has transported us beyond our imagination. To new worlds. Through heart-pounding adventures. Be there as David Alan Miller conducts all your John Williams favorites: Superman\, Raiders of the Lost Ark\, Harry Potter\, E.T.\, and of course\, Star Wars.
URL:https://thecollegeexperience.org/ceevents/18963/
END:VEVENT
BEGIN:VEVENT
DTSTART;TZID=America/New_York:20250503T190000
DTEND;TZID=America/New_York:20250503T210000
DTSTAMP:20260420T074426
CREATED:20250428T141218Z
LAST-MODIFIED:20250428T141218Z
UID:19005-1746298800-1746306000@thecollegeexperience.org
SUMMARY:Albany Patroons Basketball at the Washington Ave Armory
DESCRIPTION:🏀 Albany Patroons Basketball \nWHEN: Saturday\, May 3\, 2025\, 7:00 PM \nWHERE: Washington Avenue Armory\, 195 Washington Avenue\, Albany\, NY \nCOST: Tickets vary by game \nBUS: 910/10 \nDETAILS: Professional basketball game featuring the Albany Patroons. \nWebsite: https://albanypatroonsbasketball.com
URL:https://thecollegeexperience.org/ceevents/albany-patroons-basketball-at-the-washington-ave-armory/
END:VEVENT
BEGIN:VEVENT
DTSTART;TZID=America/New_York:20250503T170000
DTEND;TZID=America/New_York:20250503T190000
DTSTAMP:20260420T074426
CREATED:20250428T131200Z
LAST-MODIFIED:20250428T131200Z
UID:18984-1746291600-1746298800@thecollegeexperience.org
SUMMARY:Baseball Game 2! Elmira VS Russell Sage
DESCRIPTION:⚾ (Baseball) Elmira vs. Russell Sage College (Game Two)\n WHEN: Saturday\, May 3\, 2025\, 4:00 PM – 7:00 PM\n WHERE: Plumeri Sports Complex\, 20 Frisbie Avenue\, Albany\, NY\n COST: Free\n BUS: 22\, 922\, 923\, RS Shuttle\n DETAILS: Senior Day Game Two: Elmira College vs. Russell Sage College. 9 innings of thrilling college baseball action following Game One.\n Website: https://sage.edu/events/?trumbaEmbed=view%3Devent%26eventid%3D180451726
URL:https://thecollegeexperience.org/ceevents/baseball-game-2-elmira-vs-russell-sage/
END:VEVENT
BEGIN:VEVENT
DTSTART;TZID=America/New_York:20250503T150000
DTEND;TZID=America/New_York:20250503T170000
DTSTAMP:20260420T074426
CREATED:20250428T124410Z
LAST-MODIFIED:20250428T124410Z
UID:18971-1746284400-1746291600@thecollegeexperience.org
SUMMARY:Frank's Make- Up Senior Event
DESCRIPTION:When: Saturday May 3\, 2025 at 3pm \nWhere: 8 South Main \nCost: Free\, but if you have your own makeup or nail polish\, you may bring that with you (I recommend it). \nTravel: Walk or Bus \nFrank says he is hosting this event because ” I enjoy makeup and I think it would be a fun time!! “ \n 
URL:https://thecollegeexperience.org/ceevents/franks-make-up-senior-event/
END:VEVENT
BEGIN:VEVENT
DTSTART;TZID=America/New_York:20250503T130000
DTEND;TZID=America/New_York:20250503T160000
DTSTAMP:20260420T074426
CREATED:20250428T131052Z
LAST-MODIFIED:20250428T131052Z
UID:18983-1746277200-1746288000@thecollegeexperience.org
SUMMARY:Baseball Game! Elmira VS Russell Sage
DESCRIPTION:⚾ (Baseball) Elmira vs. Russell Sage College (Game One)\n WHEN: Saturday\, May 3\, 2025\, 1:00 PM – 4:00 PM\n WHERE: Plumeri Sports Complex\, 20 Frisbie Avenue\, Albany\, NY\n COST: Free\n BUS: 22\, 922\, 923\, RS Shuttle\n DETAILS: Senior Day Game One: Elmira College faces off against Russell Sage College in a 7-inning baseball game at Plumeri Sports Complex.\n Website: https://sage.edu/events/?trumbaEmbed=view%3Devent%26eventid%3D180451725
URL:https://thecollegeexperience.org/ceevents/baseball-game-elmira-vs-russell-sage/
END:VEVENT
BEGIN:VEVENT
DTSTART;TZID=America/New_York:20250503T130000
DTEND;TZID=America/New_York:20250503T144500
DTSTAMP:20260420T074426
CREATED:20250428T125128Z
LAST-MODIFIED:20250428T125128Z
UID:18972-1746277200-1746283500@thecollegeexperience.org
SUMMARY:Noah's Get Air Event
DESCRIPTION:When: Saturday\, May 3 1pm- 2:45pm \nWhere: Crossgates Mall Get Air \,Trampoline Indoor Park \nCost: One Hour – 17.89;  Two Hours – $26.99; Three Hours – $29.99; Jump Socks* – $4.00 \nTravel: Meet at 531 Western Ave at 11:00 AM then taking the 114  910 or the 10 bus \nNoah says ” The reason that I wanted to host this event is because I wanted everyone to come together to have a good time with friends and to enjoy the event that I am hosting.” \nSee Website: Get Air
URL:https://thecollegeexperience.org/ceevents/noahs-get-air-event/
END:VEVENT
BEGIN:VEVENT
DTSTART;TZID=America/New_York:20250503T130000
DTEND;TZID=America/New_York:20250503T140000
DTSTAMP:20260420T074426
CREATED:20250425T131415Z
LAST-MODIFIED:20250425T131415Z
UID:18968-1746277200-1746280800@thecollegeexperience.org
SUMMARY:Noah Walking in Washington Park Event!
DESCRIPTION:When: Saturday May 3 at 1pm \nWhere: It will be taken place at Washington Park and the meeting place will be at 531 please make sure to bring a water bottle with you   \nCost: Free \nTravel: Meet at 531 then take the 114 to Washington Park! Hope for nice weather! \nBring a water bottle and enjoy a nice afternoon stroll at Washington Park \nNoah says “The reason that I want to host this event is because it will be a good day for a long walk and it’s good to get some good exercise before the summer weather and it will be a good time with you all.” \n 
URL:https://thecollegeexperience.org/ceevents/noah-walking-in-washington-park-event/
END:VEVENT
BEGIN:VEVENT
DTSTART;TZID=America/New_York:20250503T121500
DTEND;TZID=America/New_York:20250503T164500
DTSTAMP:20260420T074426
CREATED:20250428T135722Z
LAST-MODIFIED:20250428T135746Z
UID:19001-1746274500-1746290700@thecollegeexperience.org
SUMMARY:Free Comic Book Day: Make Your Own Comic at the Howe
DESCRIPTION:✏️ Free Comic Book Day: Make Your Own Comic \nWHEN: Saturday\, May 3 12:15PM – 4:45PM \nWHERE: The Howe Albany Public Library \nCOST: Free \nBUS: 922\, 182 \nDETAILS: Workshop where participants create their own comics. \nWebsite: https://albany.librarycalendar.com/event/free-comic-book-day-make-your-own-comic-43387
URL:https://thecollegeexperience.org/ceevents/free-comic-book-day-make-your-own-comic-at-the-hower/
END:VEVENT
BEGIN:VEVENT
DTSTART;TZID=America/New_York:20250503T120000
DTEND;TZID=America/New_York:20250503T160000
DTSTAMP:20260420T074426
CREATED:20250428T140135Z
LAST-MODIFIED:20250428T140242Z
UID:19003-1746273600-1746288000@thecollegeexperience.org
SUMMARY:Art For All at the Albany Institute of History & Art
DESCRIPTION:🎨 Art for All \nWHEN: Saturday\, May 3\, 2025\, 12:00 PM – 4:00 PM \nWHERE: Albany Institute of History & Art\, 125 Washington Avenue\, Albany\, NY \nCOST: Free with museum admission \nBUS: 910\, 10 \nDETAILS: Drop-in art-making inspired by the museum’s exhibitions and collections. \nWebsite: https://www.albanyinstitute.org/event/art-for-all-16
URL:https://thecollegeexperience.org/ceevents/art-for-all-at-the-albany-institute-of-history-art/
END:VEVENT
BEGIN:VEVENT
DTSTART;TZID=America/New_York:20250503T120000
DTEND;TZID=America/New_York:20250503T150000
DTSTAMP:20260420T074426
CREATED:20250428T131535Z
LAST-MODIFIED:20250428T131535Z
UID:18986-1746273600-1746284400@thecollegeexperience.org
SUMMARY:Baseball Game! Elmira VS Russell Sage
DESCRIPTION:⚾ (Baseball) Elmira vs. Russell Sage College\n WHEN: Sunday\, May 4\, 2025\, 12:00 PM – 3:00 PM\n WHERE: Plumeri Sports Complex\, 20 Frisbie Avenue\, Albany\, NY\n COST: Free\n BUS: 22\, 922\, 923\, RS Shuttle\n DETAILS: Watch Russell Sage College take on Elmira College in exciting baseball action at the Plumeri Sports Complex.\n Website: https://sage.edu/events/?trumbaEmbed=view%3Devent%26eventid%3D180451727
URL:https://thecollegeexperience.org/ceevents/baseball-game-elmira-vs-russell-sage-2/
END:VEVENT
BEGIN:VEVENT
DTSTART;TZID=America/New_York:20250503T113000
DTEND;TZID=America/New_York:20250503T133000
DTSTAMP:20260420T074426
CREATED:20250502T185135Z
LAST-MODIFIED:20250502T185135Z
UID:19012-1746271800-1746279000@thecollegeexperience.org
SUMMARY:Matt F. Apex Arcade Event
DESCRIPTION:When: Saturday May 3 11:30-1:45 pm \nWhere: Apex Arcade Crossgates Mall \nCost: Bring money to purchase a game card and lunch. Prices for various events vary ~$20-40 \nTravel: We will be meeting up at the 910 bus stop next to 531 to catch the 910 bus. \nMatt says ” I want to host this event because I think it would be good and fun for us to take a break from classes and work and get together and hang out with friends and game together what better way than to be with friends at an arcade on a Saturday!”
URL:https://thecollegeexperience.org/ceevents/matt-f-apex-arcade-event/
END:VEVENT
BEGIN:VEVENT
DTSTART;TZID=America/New_York:20250503T103000
DTEND;TZID=America/New_York:20250503T123000
DTSTAMP:20260420T074426
CREATED:20250428T140358Z
LAST-MODIFIED:20250428T140358Z
UID:19004-1746268200-1746275400@thecollegeexperience.org
SUMMARY:Urban Foraging with Radix
DESCRIPTION:🌱 Urban Foraging with Radix \nWHEN: Saturday\, May 3\, 2025\, 10:30 AM – 12:30 PM \nWHERE: North Albany Branch\, Albany Public Library\, 616 North Pearl Street\, Albany\, NY \nCOST: Free (Registration required; event is full) \nBUS: 10/114 to 22. 10/910 to 922/923 \nDETAILS: Guided walk identifying edible plants around the North Albany neighborhood. \nWebsite: https://albany.librarycalendar.com/event/urban-foraging-radix-41994
URL:https://thecollegeexperience.org/ceevents/urban-foraging-with-radix/
END:VEVENT
BEGIN:VEVENT
DTSTART;TZID=America/New_York:20250503T093000
DTEND;TZID=America/New_York:20250503T153000
DTSTAMP:20260420T074426
CREATED:20250428T135937Z
LAST-MODIFIED:20250428T135937Z
UID:19002-1746264600-1746286200@thecollegeexperience.org
SUMMARY:Free Comic Book Day & Star Wars Day at the Cohoes Public Library
DESCRIPTION:📚 Free Comic Book Day & Star Wars Day \nWHEN: Saturday\, May 3 9:30PM – 3:30PM \nWHERE: Cohoes Public Library\, 169 Mohawk St\, Cohoes\, NY \nCOST: Free \nBUS: 182\, 922  \nDETAILS: Celebrate Free Comic Book Day with Star Wars-themed events and giveaways. \nWebsite: https://www.cohoespubliclibrary.org/event/free-comic-book-day-star-wars-day/
URL:https://thecollegeexperience.org/ceevents/free-comic-book-day-star-wars-day-at-the-cohoes-public-library/
END:VEVENT
BEGIN:VEVENT
DTSTART;TZID=America/New_York:20250503T090000
DTEND;TZID=America/New_York:20250503T140000
DTSTAMP:20260420T074426
CREATED:20250428T141553Z
LAST-MODIFIED:20250428T141645Z
UID:19007-1746262800-1746280800@thecollegeexperience.org
SUMMARY:Troy Waterfront Farmers Market
DESCRIPTION:WHEN: Every Saturday\, 9am – 2pm \nWHERE: Nov- April Inside the Troy Atrium. May- Oct\, the market is all along River St and around Monument Square\, flowing onto 1st\, 2nd\, and Broadway. You can use Monument Square\, Troy\, NY 12180 as your destination on Google Maps. \nCOST: Free to attend\, but bring $10 – $20 to purchase anything \nBUS: take bus #10 downtown to catch bus #22\, #922\, or #923 \nBus Stop to get off at: 4th and Fulton St. in Troy \nHeld every Saturday\, year-round\, the Troy Waterfront Farmers Market is one of the most popular attractions in New York’s Capital Region. \nNovember to April the market is held within the Troy AtriMay through October\, the market transforms the heart of downtown Troy into an open-air street festival that could easily pass for a scene in Europe. On the busiest Saturdays\, as many as 15\,000 people visit the market to shop for fresh local produce\, meats\, seafood\, prepared foods and handmade crafts. Couples\, families\, college students and neighborhood regulars all mingle in Monument Square and on the surrounding streets\, milling around between the tents\, sidewalk tables and music stages. \nMany stay to socialize and explore the charming shops and vibrant eateries in one of the most perfectly preserved 19th-century downtowns in the United States. \nToday\, the Troy Waterfront Farmers Market routinely receives “Best of” accolades by regional media and in reader polls. In 2019\, the market earned the American Farmland Trust’s People’s Choice award for Number 1 farmers market in the nation. \nWe now have more than 100 local\, producer-only vendors. Check out our Vendors page to find out more or Contact Us if you’re looking for a specific item!
URL:https://thecollegeexperience.org/ceevents/troy-waterfront-farmers-market-33/
END:VEVENT
END:VCALENDAR