BEGIN:VCALENDAR
VERSION:2.0
PRODID:-//The College Experience - ECPv6.11.0//NONSGML v1.0//EN
CALSCALE:GREGORIAN
METHOD:PUBLISH
X-WR-CALNAME:The College Experience
X-ORIGINAL-URL:https://thecollegeexperience.org
X-WR-CALDESC:Events for The College Experience
REFRESH-INTERVAL;VALUE=DURATION:PT1H
X-Robots-Tag:noindex
X-PUBLISHED-TTL:PT1H
BEGIN:VTIMEZONE
TZID:America/New_York
BEGIN:DAYLIGHT
TZOFFSETFROM:-0500
TZOFFSETTO:-0400
TZNAME:EDT
DTSTART:20250309T070000
END:DAYLIGHT
BEGIN:STANDARD
TZOFFSETFROM:-0400
TZOFFSETTO:-0500
TZNAME:EST
DTSTART:20251102T060000
END:STANDARD
END:VTIMEZONE
BEGIN:VEVENT
DTSTART;TZID=America/New_York:20250428T190000
DTEND;TZID=America/New_York:20250428T220000
DTSTAMP:20260424T045755
CREATED:20250428T125400Z
LAST-MODIFIED:20250428T125619Z
UID:18974-1745866800-1745877600@thecollegeexperience.org
SUMMARY:Intramural Basketball
DESCRIPTION:🏀 Intramural Basketball\n WHEN: Monday\, April 28\, 2025\, 7:00 PM – 10:00 PM\n WHERE: Robison Gym\, Russell Sage College\, 65 1st Street\, Troy\, NY\n COST: Free\n BUS: 22\, 922\, 923\, RS Shuttle\nDETAILS: Join the fun with Intramural Basketball at Robison Gym! Coed pickup games for all students\, faculty\, and staff. New Monday sessions added in addition to Thursdays. Play begins at 7:00 PM.\nWebsite: https://www.sage.edu/events/?trumbaEmbed=view%3Devent%26eventid%3D179755139
URL:https://thecollegeexperience.org/ceevents/18974/
END:VEVENT
BEGIN:VEVENT
DTSTART;TZID=America/New_York:20250428T190000
DTEND;TZID=America/New_York:20250428T210000
DTSTAMP:20260424T045755
CREATED:20250428T132606Z
LAST-MODIFIED:20250428T132606Z
UID:18990-1745866800-1745874000@thecollegeexperience.org
SUMMARY:🎤 Monday Mopco Improv Theatre! Workout Night
DESCRIPTION:🎤 Monday Workout Night at Mopco Improv Theatre \nWHEN: Mondays (recurring)\, 7:00 PM – 9:00 PM \nWHERE: Mopco Improv Theatre\, Schenectady\, NY \nCOST: $7 \nBUS: 905\, 10 to 355 \nDETAILS: Participate in a lively improv comedy workout suitable for all skill levels. \nWebsite: https://mopcoimprov.ticketspice.com/monday-workout-night-at-the-mopco
URL:https://thecollegeexperience.org/ceevents/%f0%9f%8e%a4-monday-mopco-improv-theatre-workout-night/
END:VEVENT
BEGIN:VEVENT
DTSTART;TZID=America/New_York:20250428T190000
DTEND;TZID=America/New_York:20250428T210000
DTSTAMP:20260424T045755
CREATED:20250428T131920Z
LAST-MODIFIED:20250428T132315Z
UID:18988-1745866800-1745874000@thecollegeexperience.org
SUMMARY:Bingo Night!
DESCRIPTION:🎱 Bingo Night \nWHEN: Every Monday\, 7:00 PM – 9:00 PM \nWHERE: 78 Montgomery St.\, Albany\, NY 12207Albany\, NY 1220 \n\nCOST: Free \nBUS: 910\, 10\, 106 \nDETAILS: Casual weekly bingo night with fun prizes. \nWebsite: https://www.albany.org/event/bingo-night/48685/
URL:https://thecollegeexperience.org/ceevents/bingo-night-4/
END:VEVENT
BEGIN:VEVENT
DTSTART;TZID=America/New_York:20250428T170000
DTEND;TZID=America/New_York:20250428T180000
DTSTAMP:20260424T045755
CREATED:20250428T125303Z
LAST-MODIFIED:20250428T125303Z
UID:18973-1745859600-1745863200@thecollegeexperience.org
SUMMARY:Dance Fitness With Noah Cordone
DESCRIPTION:💃 Dance Fitness with Noah Cordone\n WHEN: Monday\, April 28\, 2025\, 5:00 PM – 6:00 PM\n WHERE: Robison Athletic and Recreation Center / The Aggie\, Russell Sage College\, 65 1st Street\, Troy\, NY\n COST: Free\n BUS: 22\, 922\, 923\, RS Shuttle\n DETAILS: Dance Fitness returns for Spring 2025! Get your heart rate up and de-stress with this lively fitness class\, starting at 5:00 PM in The Aggie\, lower level of Robison.\n Website: https://www.sage.edu/events/?trumbaEmbed=view%3Devent%26eventid%3D179754393
URL:https://thecollegeexperience.org/ceevents/dance-fitness-with-noah-cordone/
END:VEVENT
BEGIN:VEVENT
DTSTART;TZID=America/New_York:20250427T184500
DTEND;TZID=America/New_York:20250427T194500
DTSTAMP:20260424T045755
CREATED:20250421T145520Z
LAST-MODIFIED:20250423T182331Z
UID:18946-1745779500-1745783100@thecollegeexperience.org
SUMMARY:Noah's Sunday Game Night!
DESCRIPTION:When: Sunday April 27 at 6:45 pm \nWhere: 531 Western Ave. \nCost: Free but bring a snack or drink to share 🙂 \nTravel Walk or Bus \nJoin Noah for a fun evening of games and hanging out! He says “The reason that I wanted to host this event is because it will be  a fun day to enjoy playing games and also having some times with other people too and having a good time. Also there will be drinks and food being provided and please bring something to share for an example if you could bring any types of drinks or food to the event that will be great. Please plan ahead of time and please let me\, Cassandra\, and David know ahead of time.
URL:https://thecollegeexperience.org/ceevents/noahs-tuesday-game-night/
END:VEVENT
BEGIN:VEVENT
DTSTART;TZID=America/New_York:20250427T160000
DTEND;TZID=America/New_York:20250427T173000
DTSTAMP:20260424T045755
CREATED:20250409T164423Z
LAST-MODIFIED:20250409T164423Z
UID:18914-1745769600-1745775000@thecollegeexperience.org
SUMMARY:Talent Show at Bring on the Spectrum
DESCRIPTION:When: Sunday April 27 4pm-5:30pm \nWhere: Bring on the Spectrum BOTS \n71 Fuller Rd\, Albany NY 12205 \nCost: Admission is $5 per person \nRaffles\, Prizes and a Bake Sale! \nTravel: Discuss in class
URL:https://thecollegeexperience.org/ceevents/talent-show-at-bring-on-the-spectrum/
END:VEVENT
BEGIN:VEVENT
DTSTART;TZID=America/New_York:20250427T130000
DTEND;TZID=America/New_York:20250427T190000
DTSTAMP:20260424T045755
CREATED:20250425T122553Z
LAST-MODIFIED:20250425T122553Z
UID:18955-1745758800-1745780400@thecollegeexperience.org
SUMMARY:Softball Game! SUNY Brockport vs. Russell Sage College (Doubleheader)
DESCRIPTION:🥎 Softball: SUNY Brockport vs. Russell Sage College (Doubleheader) \nWHEN: Sunday\, April 27 \nGame 1: 1:00 PM – 3:00 PM \nGame 2: 3:00 PM – 5:00 PM \nWHERE: Plumeri Sports Complex\, 20 Frisbee Ave\, Albany\, NY 12208 \nCOST: Free \nDETAILS: Enjoy a Sunday doubleheader as the Gators softball team takes on SUNY Brockport at home. Bring your team spirit! \nWebsite: https://www.sage.edu/events/?trumbaEmbed=view%3Devent%26eventid%3D180638566
URL:https://thecollegeexperience.org/ceevents/softball-game-suny-brockport-vs-russell-sage-college-doubleheader/
END:VEVENT
BEGIN:VEVENT
DTSTART;TZID=America/New_York:20250427T120000
DTEND;TZID=America/New_York:20250427T170000
DTSTAMP:20260424T045755
CREATED:20250425T124550Z
LAST-MODIFIED:20250425T124610Z
UID:18962-1745755200-1745773200@thecollegeexperience.org
SUMMARY:Journey Through Time: Cohoes Mastodon Gallery Tour When: Sunday\, April 27\, 2025 at 12 pm
DESCRIPTION:Journey Through Time: Cohoes Mastodon Gallery Tour\n\n\n\nWhen: Sunday\, April 27\, 2025 at 12 pm\n\n\nWhere: New York State :Museum Cultural Education Center 222 Madison Avenue Albany\, NY 12230 South Lobby\n\n\n\nCost: Free\n\nTravel: Discuss in class #910\n\n\n\n\n\n\n\n\n\nStep back in time and join us for a fascinating 30-minute gallery tour of the Cohoes Mastodon\, one of the New York State Museum’s most treasured fossils\, led by NYSM Director of Research and Collections and Curator of Vertebrate Paleontology\, Dr. Robert Feranec. Discovered in 1866 during the construction of Harmony Mill No. 3 near Cohoes Falls\, this impressive creature stood about eight-and-one-half feet high and weighed between 8\,000 and 10\,000 pounds. \nDuring the tour\, you’ll learn about the mastodon’s life 13\,000 years ago\, uncover the research behind its unique skeletal features\, and explore the distinguishing traits that set mastodons apart from mammoths. Discover the remarkable story of survival\, injury\, and the ancient world through this iconic relic of our planet’s history \nSee Website: https://www.nysm.nysed.gov/programs/cohoes-mastodon-gallery-tour
URL:https://thecollegeexperience.org/ceevents/18962/
END:VEVENT
BEGIN:VEVENT
DTSTART;TZID=America/New_York:20250427T120000
DTEND;TZID=America/New_York:20250427T150000
DTSTAMP:20260424T045755
CREATED:20250425T122419Z
LAST-MODIFIED:20250425T122440Z
UID:18954-1745755200-1745766000@thecollegeexperience.org
SUMMARY:Baseball Game! SJFU vs. Russell Sage
DESCRIPTION:⚾ Baseball: SJFU vs. Russell Sage \nWHEN: Sunday\, April 27\, 12:00 PM – 3:00 PM \nWHERE: Plumeri Sports Complex\, 20 Frisbee Ave\, Albany\, NY 12208 \nCOST: Free \nDETAILS: Don’t miss the final matchup in the weekend series as Russell Sage hosts St. John Fisher University. \nWebsite: https://www.sage.edu/events/?trumbaEmbed=view%3Devent%26eventid%3D180451723 
URL:https://thecollegeexperience.org/ceevents/baseball-game-sjfu-vs-russell-sage/
END:VEVENT
BEGIN:VEVENT
DTSTART;TZID=America/New_York:20250426T190000
DTEND;TZID=America/New_York:20250426T210000
DTSTAMP:20260424T045755
CREATED:20250425T123608Z
LAST-MODIFIED:20250425T123608Z
UID:18959-1745694000-1745701200@thecollegeexperience.org
SUMMARY:Golden Oldies Spectacular at Proctors
DESCRIPTION:🎶 Golden Oldies Spectacular \nWHEN: Saturday\, April 26\, 7:00 PM \nWHERE: Proctors Theatre\, 432 State St\, Schenectady\, NY 12305 \nCOST: Varies by seating \nBUS: From 531 Western Ave\, take CDTA bus #10 or #12 to downtown Albany\, then transfer to bus #905 to downtown Schenectady \nDETAILS: A night of legendary hits and unforgettable performances from classic pop\, rock\, and soul artists. Held at the historic Proctors Theatre. \nWebsite: https://www.atproctors.org/event/golen-oldies-2025/ \n 
URL:https://thecollegeexperience.org/ceevents/golden-oldies-spectacular-at-proctors/
END:VEVENT
BEGIN:VEVENT
DTSTART;TZID=America/New_York:20250426T160000
DTEND;TZID=America/New_York:20250426T190000
DTSTAMP:20260424T045755
CREATED:20250425T121734Z
LAST-MODIFIED:20250425T121734Z
UID:18951-1745683200-1745694000@thecollegeexperience.org
SUMMARY:Baseball Game! SJFU vs. Russell Sage (Game Two)
DESCRIPTION:⚾ Baseball: SJFU vs. Russell Sage (Game Two) \nWHEN: Saturday\, April 26\, 4:00 PM – 7:00 PM \nWHERE: Plumeri Sports Complex\, 20 Frisbee Ave\, Albany\, NY 12208 \nCOST: Free \nDETAILS: Stick around for Game Two of the doubleheader and cheer the Gators on to victory! \nWebsite: https://www.sage.edu/events/?trumbaEmbed=view%3Devent%26eventid%3D180451722
URL:https://thecollegeexperience.org/ceevents/baseball-game-sjfu-vs-russell-sage-game-two/
END:VEVENT
BEGIN:VEVENT
DTSTART;TZID=America/New_York:20250426T150000
DTEND;TZID=America/New_York:20250426T180000
DTSTAMP:20260424T045755
CREATED:20250425T122226Z
LAST-MODIFIED:20250425T122247Z
UID:18953-1745679600-1745690400@thecollegeexperience.org
SUMMARY:Softball Game! SUNY Geneseo vs. Russell Sage (Game Two)
DESCRIPTION:🥎 Softball: SUNY Geneseo vs. Russell Sage (Game Two) \nWHEN: Saturday\, April 26\, 3:00 PM – 6:00 PM \nWHERE: Plumeri Sports Complex\, 20 Frisbee Ave\, Albany\, NY 12208 \nCOST: Free \nDETAILS: Game Two brings more action from the diamond—don’t miss the conclusion of this back-to-back showdown. \nWebsite: https://www.sage.edu/events/?trumbaEmbed=view%3Devent%26eventid%3D180638564 \n 
URL:https://thecollegeexperience.org/ceevents/18953/
END:VEVENT
BEGIN:VEVENT
DTSTART;TZID=America/New_York:20250426T140000
DTEND;TZID=America/New_York:20250426T170000
DTSTAMP:20260424T045755
CREATED:20250425T123155Z
LAST-MODIFIED:20250425T123211Z
UID:18957-1745676000-1745686800@thecollegeexperience.org
SUMMARY:Fresh Acts Day 2!
DESCRIPTION:🎭 Fresh Acts (Day 2) \nWHEN: Saturday\, April 26\, Starts at 2pm \nWHERE: Albany Barn\, 56 2nd St\, Albany\, NY 12210 \nCOST: Advance: $10 general public / $7 students\, seniors\, & UAlbany faculty-staff \nDay-of-show: $15 general public / $12 students\, seniors\, & UAlbany faculty-staff \nBUS: From 531 Western Ave\, take CDTA bus #10 or #12 to downtown Albany\, then walk or take bus #100 to 2nd St \nDETAILS: Fresh Acts showcases original plays written and directed by UAlbany students. A night of creativity\, performance\, and bold new voices in theater. \nWebsite: https://www.albany.org/event/fresh-acts/52027/
URL:https://thecollegeexperience.org/ceevents/18957/
END:VEVENT
BEGIN:VEVENT
DTSTART;TZID=America/New_York:20250426T130000
DTEND;TZID=America/New_York:20250426T160000
DTSTAMP:20260424T045755
CREATED:20250425T121935Z
LAST-MODIFIED:20250425T122137Z
UID:18952-1745672400-1745683200@thecollegeexperience.org
SUMMARY:Softball Game! SUNY Geneseo vs. Russell Sage (Game One)
DESCRIPTION:🥎 Softball: SUNY Geneseo vs. Russell Sage (Game One) \nWHEN: Saturday\, April 26\, 1:00 PM – 4:00 PM \nWHERE: Plumeri Sports Complex\, 20 Frisbee Ave\, Albany\, NY 12208 \nCOST: Free \nDETAILS: The softball team takes on SUNY Geneseo in the first game of an exciting afternoon doubleheader. \nWebsite: https://www.sage.edu/events/?trumbaEmbed=view%3Devent%26eventid%3D180638566
URL:https://thecollegeexperience.org/ceevents/18952/
END:VEVENT
BEGIN:VEVENT
DTSTART;TZID=America/New_York:20250426T130000
DTEND;TZID=America/New_York:20250426T160000
DTSTAMP:20260424T045755
CREATED:20250425T121623Z
LAST-MODIFIED:20250425T121623Z
UID:18950-1745672400-1745683200@thecollegeexperience.org
SUMMARY:Baseball Game! SJFU vs. Russell Sage (Game One)
DESCRIPTION:⚾ Baseball: SJFU vs. Russell Sage (Game One) \nWHEN: Saturday\, April 26\, 1:00 PM – 4:00 PM \nWHERE: Plumeri Sports Complex\, 20 Frisbee Ave\, Albany\, NY 12208 \nCOST: Free \nDETAILS: The Gators face off against St. John Fisher University in Game One of this weekend doubleheader—come out and support the home team! \nWebsite: https://www.sage.edu/events/?trumbaEmbed=view%3Devent%26eventid%3D180638563
URL:https://thecollegeexperience.org/ceevents/baseball-game-sjfu-vs-russell-sage-game-one/
END:VEVENT
BEGIN:VEVENT
DTSTART;TZID=America/New_York:20250426T080000
DTEND;TZID=America/New_York:20250426T140000
DTSTAMP:20260424T045755
CREATED:20250425T124005Z
LAST-MODIFIED:20250425T183217Z
UID:18961-1745654400-1745676000@thecollegeexperience.org
SUMMARY:Clothing Swap: Shop the Swap
DESCRIPTION:🧺 Clothing Swap: Shop the Swap \nWHEN: Saturday\, April 26\, 8am – 2 PM \nWHERE: 100 Watervliet Ave\, Albany\, NY 12206 \nCOST: Free \nBUS: From 531 Western Ave\, take CDTA bus #114 toward Central Ave\, then walk or transfer to bus #1 to Watervliet Ave \nDETAILS: Clear out your closet or pick up new-to-you items at this sustainable community clothing swap. No cost to participate—just bring your gently used clothes and take what you need! \nSee Honest Weight Food Coop Calendar https://www.honestweight.coop/page/classes-at-the-co-op-331.html \n 
URL:https://thecollegeexperience.org/ceevents/clothing-swap-shop-the-swap/
END:VEVENT
BEGIN:VEVENT
DTSTART;TZID=America/New_York:20250425T190000
DTEND;TZID=America/New_York:20250425T220000
DTSTAMP:20260424T045755
CREATED:20250425T123336Z
LAST-MODIFIED:20250425T123505Z
UID:18958-1745607600-1745618400@thecollegeexperience.org
SUMMARY:UA Student Association Parkfest
DESCRIPTION:🎤 UA Student Association Parkfest \nWHEN: Friday\, April 25\, 8:00 PM (Doors open at 7:00 PM) \nWHERE: MVP Arena\, 51 S Pearl St\, Albany\, NY 12207 \nCOST: $10 (UAlbany students with ID) / $35 (General public) \nBUS: From 531 Western Ave\, take CDTA bus #10 or #12 to Pearl St & Hudson Ave \nDETAILS: Parkfest returns with big energy\, music\, and performances at MVP Arena. Open to students and the wider community. \nWebsite: https://www.mvparena.com/events/detail/parkfest
URL:https://thecollegeexperience.org/ceevents/18958/
END:VEVENT
BEGIN:VEVENT
DTSTART;TZID=America/New_York:20250425T190000
DTEND;TZID=America/New_York:20250425T210000
DTSTAMP:20260424T045755
CREATED:20250314T164910Z
LAST-MODIFIED:20250314T172044Z
UID:18868-1745607600-1745614800@thecollegeexperience.org
SUMMARY:Madison Trivia Night
DESCRIPTION:When: Friday Nights at 7 pm \nWhere: Madison Theater\, TN Cafe- 1036 Madison Avenue\, Albany\, NY 12208 \nCost: Free to play See Food Menu \nTravel: Walk or bus \nSee link to learn more about Madison Theater
URL:https://thecollegeexperience.org/ceevents/madison-trivia-night-6/
END:VEVENT
BEGIN:VEVENT
DTSTART;TZID=America/New_York:20250425T160000
DTEND;TZID=America/New_York:20250425T190000
DTSTAMP:20260424T045755
CREATED:20250414T134957Z
LAST-MODIFIED:20250414T134957Z
UID:18920-1745596800-1745607600@thecollegeexperience.org
SUMMARY:Slippin out of the Semester on Troy Campus
DESCRIPTION:Slippin Out of the Semester! 
URL:https://thecollegeexperience.org/ceevents/slippin-out-of-the-semester-on-troy-campus/
END:VEVENT
BEGIN:VEVENT
DTSTART;TZID=America/New_York:20250425T150000
DTEND;TZID=America/New_York:20250425T170000
DTSTAMP:20260424T045755
CREATED:20250425T123006Z
LAST-MODIFIED:20250425T123006Z
UID:18956-1745593200-1745600400@thecollegeexperience.org
SUMMARY:Fresh Acts!
DESCRIPTION:🎭 Fresh Acts (Day 1) \nWHEN: Friday\, April 25\, Starts at 3 pm  \nWHERE: Albany Barn\, 56 2nd St\, Albany\, NY 12210 \nCOST: Advance: $10 general public / $7 students\, seniors\, & UAlbany faculty-staff \nDay-of-show: $15 general public / $12 students\, seniors\, & UAlbany faculty-staff \nBUS: From 531 Western Ave\, take CDTA bus #10 or #12 to downtown Albany\, then walk or take bus #100 to 2nd St \nDETAILS: Fresh Acts showcases original plays written and directed by UAlbany students. A night of creativity\, performance\, and bold new voices in theater. \nWebsite: https://www.albany.org/event/fresh-acts/52027/
URL:https://thecollegeexperience.org/ceevents/fresh-acts/
END:VEVENT
BEGIN:VEVENT
DTSTART;TZID=America/New_York:20250425T150000
DTEND;TZID=America/New_York:20250425T163000
DTSTAMP:20260424T045755
CREATED:20250421T150055Z
LAST-MODIFIED:20250423T182148Z
UID:18947-1745593200-1745598600@thecollegeexperience.org
SUMMARY:Brendan's Birthday Event
DESCRIPTION:When: Friday April 25\, 3 pm – 4:30pm \nWhere: 839 Lancaster St.\, Brendan’s Dorm \nCost: Free \nTravel: Bus or Walk \nCome celebrate Brendan’s Birthday at his dorm!
URL:https://thecollegeexperience.org/ceevents/brendans-birthday-event/
END:VEVENT
BEGIN:VEVENT
DTSTART;TZID=America/New_York:20250423T190000
DTEND;TZID=America/New_York:20250424T230000
DTSTAMP:20260424T045755
CREATED:20250421T144013Z
LAST-MODIFIED:20250421T144013Z
UID:18944-1745434800-1745535600@thecollegeexperience.org
SUMMARY:Open Mic & Talent Show in Troy!
DESCRIPTION:Open Mic & Talent Show \nWHEN: Wednesday\, April 23\, 7:00 PM – 11:00 PM \nWHERE: No Fun\, 275 River St\, Troy\, NY 12180 \nCOST: Free \nBUS: From 531 Western Ave\, take CDTA bus #10 or #12 to downtown Albany\, transfer to bus #22 to River St & State St in Troy \nDETAILS: Bring your voice\, your art\, or your weirdest talent to the stage for an open mic with an edge. \nSee LINK for details
URL:https://thecollegeexperience.org/ceevents/open-mic-talent-show-in-troy/
END:VEVENT
BEGIN:VEVENT
DTSTART;TZID=America/New_York:20250423T173000
DTEND;TZID=America/New_York:20250423T183000
DTSTAMP:20260424T045755
CREATED:20250311T172927Z
LAST-MODIFIED:20250311T173002Z
UID:18846-1745429400-1745433000@thecollegeexperience.org
SUMMARY:Zumba with Elizabeth Gaffney
DESCRIPTION:WHEN: Wednesday\, April 23\, 2025\, 5:30 – 6:30pm \nWHERE: Russell Sage Troy Campus\, Robison Gym \nCOST: Free \nBUS: The Sage Shuttle or CDTA bus routes #10–922 or 923\, 10–22\, 910–922 or 923\, 114–922 or 923 \nSign up using the QR code on the information flyer. See link: Zumba with Elizabeth Gaffney
URL:https://thecollegeexperience.org/ceevents/zumba-with-elizabeth-gaffney-10/
END:VEVENT
BEGIN:VEVENT
DTSTART;TZID=America/New_York:20250423T170000
DTEND;TZID=America/New_York:20250423T170000
DTSTAMP:20260424T045755
CREATED:20250421T144503Z
LAST-MODIFIED:20250421T144831Z
UID:18945-1745427600-1745427600@thecollegeexperience.org
SUMMARY:Art Night Schenectady w/ Dave Kitchen Trio
DESCRIPTION:🎨 Art Night Schenectady w/ Dave Kitchen Trio \nWHEN: Wednesday\, April 23\, 5:00 PM – 9:00 PM \nWHERE: Downtown Schenectady\, NY (various venues along Jay St) \nCOST: Free \nBUS: From 531 Western Ave\, take CDTA bus #10 or #12 to downtown Albany\, then transfer to bus #905 to downtown Schenectady \nYOU NEED TO PLAN TO ATTEND WITH A TRAVEL BUDDY! \nDETAILS: An evening of galleries\, music\, and community vibes\, with live jazz from the Dave Kitchen Trio lighting up the Schenectady art scene. \nSee link for more details! \n https://allevents.in/schenectady/schenectady-art-night-w-the-dave-kitchen-trio/200028061705031
URL:https://thecollegeexperience.org/ceevents/art-night-schenectady-w-dave-kitchen-trio/
END:VEVENT
BEGIN:VEVENT
DTSTART;TZID=America/New_York:20250422T190000
DTEND;TZID=America/New_York:20250422T220000
DTSTAMP:20260424T045755
CREATED:20250421T143437Z
LAST-MODIFIED:20250421T143437Z
UID:18942-1745348400-1745359200@thecollegeexperience.org
SUMMARY:Albany Patroons vs. New York Phoenix
DESCRIPTION:Albany Patroons vs. New York Phoenix \nWHEN: Tuesday\, April 22\, 7:00 PM \nWHERE: Washington Avenue Armory\, 195 Washington Ave\, Albany\, NY 12210 \nCOST: $10–$25 \nBUS: From 531 Western Ave\, take CDTA bus #10 or #12 to Washington Ave & Lark St \nDETAILS: Catch the hometown Patroons as they take on the New York Phoenix in this action-packed basketball showdown. \nSee Link for more info
URL:https://thecollegeexperience.org/ceevents/albany-patroons-vs-new-york-phoenix/
END:VEVENT
BEGIN:VEVENT
DTSTART;TZID=America/New_York:20250422T110000
DTEND;TZID=America/New_York:20250422T140000
DTSTAMP:20260424T045755
CREATED:20250414T135840Z
LAST-MODIFIED:20250414T140157Z
UID:18926-1745319600-1745330400@thecollegeexperience.org
SUMMARY:World Earth Day on the Quad!
DESCRIPTION:World Earth Day Celebration on the Quad!\nApril 22 11 am- 2pm
URL:https://thecollegeexperience.org/ceevents/world-earth-day-on-the-quad/
END:VEVENT
BEGIN:VEVENT
DTSTART;TZID=America/New_York:20250420T150000
DTEND;TZID=America/New_York:20250420T160000
DTSTAMP:20260424T045755
CREATED:20250414T123003Z
LAST-MODIFIED:20250414T123003Z
UID:18919-1745161200-1745164800@thecollegeexperience.org
SUMMARY:Cason's Easter Sunday Eat and Paint Event
DESCRIPTION:When: Sunday April 19 (Easter Sunday) 3:00 pm – 4:00 pm \nWhere: 790 Madison Avenue \nCost: Free but please bring a snack to share and art supplies if you would like. \nTravel: Walk\, #114\, 10 or 905 \nJoin Cason for a fun late afternoon event of painting and eating! She wants to spend time with friends and celebrate Easter!
URL:https://thecollegeexperience.org/ceevents/casons-easter-sunday-eat-and-paint-event/
END:VEVENT
BEGIN:VEVENT
DTSTART;TZID=America/New_York:20250419T113000
DTEND;TZID=America/New_York:20250419T133000
DTSTAMP:20260424T045755
CREATED:20250404T123043Z
LAST-MODIFIED:20250404T154419Z
UID:18896-1745062200-1745069400@thecollegeexperience.org
SUMMARY:Easter Party with Sammie\, Noah and Grace
DESCRIPTION:When: Saturday April 19 at \nWhere: 531 Western Ave at 11:30 am \nCost: Free \nTravel: Bus or walk \nSammie\, Noah and Grace say “The reason we want to host this event because it will be fun thing to enjoy having a good time together and lets all be kind to each other and no drama allowed. ” 
URL:https://thecollegeexperience.org/ceevents/easter-party-with-sammie-noah-and-grace/
END:VEVENT
BEGIN:VEVENT
DTSTART;TZID=America/New_York:20250419T090000
DTEND;TZID=America/New_York:20250419T140000
DTSTAMP:20260424T045755
CREATED:20250313T191153Z
LAST-MODIFIED:20250313T191231Z
UID:18860-1745053200-1745071200@thecollegeexperience.org
SUMMARY:Troy Waterfront Farmers Market
DESCRIPTION:WHEN: Every Saturday\, 9am – 2pm \nWHERE: Nov- April Inside the Troy Atrium. May- Oct\, the market is all along River St and around Monument Square\, flowing onto 1st\, 2nd\, and Broadway. You can use Monument Square\, Troy\, NY 12180 as your destination on Google Maps. \nCOST: Free to attend\, but bring $10 – $20 to purchase anything \nBUS: take bus #10 downtown to catch bus #22\, #922\, or #923 \nBus Stop to get off at: 4th and Fulton St. in Troy \nHeld every Saturday\, year-round\, the Troy Waterfront Farmers Market is one of the most popular attractions in New York’s Capital Region. \nNovember to April the market is held within the Troy AtriMay through October\, the market transforms the heart of downtown Troy into an open-air street festival that could easily pass for a scene in Europe. On the busiest Saturdays\, as many as 15\,000 people visit the market to shop for fresh local produce\, meats\, seafood\, prepared foods and handmade crafts. Couples\, families\, college students and neighborhood regulars all mingle in Monument Square and on the surrounding streets\, milling around between the tents\, sidewalk tables and music stages. \nMany stay to socialize and explore the charming shops and vibrant eateries in one of the most perfectly preserved 19th-century downtowns in the United States. \nToday\, the Troy Waterfront Farmers Market routinely receives “Best of” accolades by regional media and in reader polls. In 2019\, the market earned the American Farmland Trust’s People’s Choice award for Number 1 farmers market in the nation. \nWe now have more than 100 local\, producer-only vendors. Check out our Vendors page to find out more or Contact Us if you’re looking for a specific item!
URL:https://thecollegeexperience.org/ceevents/troy-waterfront-farmers-market-32/
END:VEVENT
BEGIN:VEVENT
DTSTART;TZID=America/New_York:20250418T190000
DTEND;TZID=America/New_York:20250418T210000
DTSTAMP:20260424T045755
CREATED:20250414T135348Z
LAST-MODIFIED:20250414T135348Z
UID:18924-1745002800-1745010000@thecollegeexperience.org
SUMMARY:Trivia Night at Freddie's Lounge
DESCRIPTION:
URL:https://thecollegeexperience.org/ceevents/trivia-night-at-freddies-lounge/
END:VEVENT
END:VCALENDAR