BEGIN:VCALENDAR
VERSION:2.0
PRODID:-//The College Experience - ECPv6.11.0//NONSGML v1.0//EN
CALSCALE:GREGORIAN
METHOD:PUBLISH
X-ORIGINAL-URL:https://thecollegeexperience.org
X-WR-CALDESC:Events for The College Experience
REFRESH-INTERVAL;VALUE=DURATION:PT1H
X-Robots-Tag:noindex
X-PUBLISHED-TTL:PT1H
BEGIN:VTIMEZONE
TZID:America/New_York
BEGIN:DAYLIGHT
TZOFFSETFROM:-0500
TZOFFSETTO:-0400
TZNAME:EDT
DTSTART:20250309T070000
END:DAYLIGHT
BEGIN:STANDARD
TZOFFSETFROM:-0400
TZOFFSETTO:-0500
TZNAME:EST
DTSTART:20251102T060000
END:STANDARD
END:VTIMEZONE
BEGIN:VEVENT
DTSTART;VALUE=DATE:20250529
DTEND;VALUE=DATE:20250531
DTSTAMP:20260422T091717
CREATED:20250516T154906Z
LAST-MODIFIED:20250516T154906Z
UID:19053-1748476800-1748649599@thecollegeexperience.org
SUMMARY:Health and Fitness Expo at the Armory!
DESCRIPTION:Health and Fitness Expo at the Armory! \n\nWHEN: Thursday\, May 29\, 2025 – 4:00 PM – 8:00 PM & Friday\, May 30\, 2025 – 12:00 PM – 7:00 PM \n \nWHERE: Armory at Russell Sage College\, 130 New Scotland Ave\, Albany\, NY \nCOST: Varies by event\nTravel: Discuss in Class \n DETAILS: \nMore than 10\,000 people will attend our annual free Health and Fitness Expo event located at The Armory at Sage College on New Scotland Road. The Expo offers family-friendly health & fitness activities & information. Access into the facility is open to the public. Parking is plentiful and free! \nRunners : browse and learn from our numerous great businesses and non profit partners. You will pick up your bib\, t-shirt\, cookies and bread at the Expo. \nAll Expo attendees will be able enter to win great raffle items which will be announced here! In 2023 some of the raffle items were: \n\nPowerSurge Nut Butters\nArbonne gift certificate\nSaratoga Oils Gift Basket\nAdvocare Spark and Blender Bottle\nBondiBands\nMary Kay Gift Sets\nAND MORE!!!\n\nWEBSITE: https://freihofersrun.com/events/health-fitness-expo
URL:https://thecollegeexperience.org/ceevents/health-and-fitness-expo-at-the-armory/
END:VEVENT
BEGIN:VEVENT
DTSTART;VALUE=DATE:20250530
DTEND;VALUE=DATE:20250602
DTSTAMP:20260422T091717
CREATED:20250516T155457Z
LAST-MODIFIED:20250516T155457Z
UID:19057-1748563200-1748822399@thecollegeexperience.org
SUMMARY:2025 Saint Basil Troy Greek Festival
DESCRIPTION:2025 Saint Basil Troy Greek Festival\n WHEN: Friday\, May 30 – Sunday\, June 1\, 2025\n 🕔 Festival Hours:\n • Friday: 5:00 PM – 10:00 PM\n • Saturday: 12:00 PM – 10:00 PM\n • Sunday: 12:00 PM – 5:00 PM \n\n WHERE: St. Basil Greek Orthodox Church\n 📍 909 River Street\, Troy\, NY 12180 \n\n COST: Free admission and parking\n BUS: 922/923 \n\n DETAILS: Celebrate Greek culture with homemade food and pastries\, live music by Prometheus\, youth dance performances\, crafts\, and more! Bring the whole family for a weekend of cultural fun and flavor.\n WEBSITE: https://www.albany.com/event/st-basil-greek-festival-126733/
URL:https://thecollegeexperience.org/ceevents/2025-saint-basil-troy-greek-festival/
END:VEVENT
BEGIN:VEVENT
DTSTART;TZID=America/New_York:20250530T160000
DTEND;TZID=America/New_York:20250530T180000
DTSTAMP:20260422T091717
CREATED:20250527T140934Z
LAST-MODIFIED:20250527T140934Z
UID:19076-1748620800-1748628000@thecollegeexperience.org
SUMMARY:Noah's Ice cream event
DESCRIPTION:When: Friday May 30 4pm- 6pm \nWhere: 531 Western Ave \nCost: Free but bring a snack to share \nTravel: Walk or Bus \nNoah says “I am hosting pizza and ice cream party and a movie. there will be pizza from the pizza Lab and there will be ice cream\, cookies and cupcakes to celebrate the seniors from their graduation. Please bring something to share. The movie we are watching the slideshow for the seniors.”
URL:https://thecollegeexperience.org/ceevents/noahs-ice-cream-event/
END:VEVENT
BEGIN:VEVENT
DTSTART;TZID=America/New_York:20250530T170000
DTEND;TZID=America/New_York:20250530T203000
DTSTAMP:20260422T091717
CREATED:20250516T160750Z
LAST-MODIFIED:20250516T160750Z
UID:19065-1748624400-1748637000@thecollegeexperience.org
SUMMARY:Pride 2025 Kick-Off BBQ
DESCRIPTION:🏳️‍🌈 Pride 2025 Kick-Off BBQ \nWHEN: Friday\, May 30\, 2025 \n5:00 PM – 8:30 PM \nWHERE: Waterwork Pub at Rock City Parking Lot 2\, 76 Central Ave\, Albany\, NY 12206 33 \nCOST: Free \nBUS: 1 \nDETAILS: Kick off Pride season with a BBQ featuring music\, complimentary food\, and drag performances. 33 \nWEBSITE:https://ioov.org/show-event/1854/  \n 
URL:https://thecollegeexperience.org/ceevents/pride-2025-kick-off-bbq/
END:VEVENT
END:VCALENDAR