BEGIN:VCALENDAR
VERSION:2.0
PRODID:-//The College Experience - ECPv6.11.0//NONSGML v1.0//EN
CALSCALE:GREGORIAN
METHOD:PUBLISH
X-WR-CALNAME:The College Experience
X-ORIGINAL-URL:https://thecollegeexperience.org
X-WR-CALDESC:Events for The College Experience
REFRESH-INTERVAL;VALUE=DURATION:PT1H
X-Robots-Tag:noindex
X-PUBLISHED-TTL:PT1H
BEGIN:VTIMEZONE
TZID:America/New_York
BEGIN:DAYLIGHT
TZOFFSETFROM:-0500
TZOFFSETTO:-0400
TZNAME:EDT
DTSTART:20250309T070000
END:DAYLIGHT
BEGIN:STANDARD
TZOFFSETFROM:-0400
TZOFFSETTO:-0500
TZNAME:EST
DTSTART:20251102T060000
END:STANDARD
END:VTIMEZONE
BEGIN:VEVENT
DTSTART;VALUE=DATE:20250430
DTEND;VALUE=DATE:20250518
DTSTAMP:20260422T074811
CREATED:20250428T125933Z
LAST-MODIFIED:20250428T125933Z
UID:18977-1745971200-1747526399@thecollegeexperience.org
SUMMARY:2025 Visual Arts BFA Exhibition
DESCRIPTION:🎨 2025 Visual Arts BFA Exhibition\n WHEN: Wednesday\, April 30\, 2025 – Saturday\, May 17\, 2025 (Special Hours: Tues-Sat 12:00 PM – 5:00 PM)\n WHERE: Opalka Gallery\, Russell Sage College\, 140 New Scotland Avenue\, Albany\, NY\n COST: Free\n BUS: 100\n DETAILS: The Department of Visual and Performing Arts presents the 21st Annual Bachelor of Fine Arts Student Exhibition\, featuring work from the Art + Extended Media\, Graphic + Media Design\, and Interior + Spatial Design programs. Opening reception is Friday\, May 2 from 5–7 PM\, free and open to the public.\n Website: https://www.sage.edu/events/?trumbaEmbed=view%3Devent%26eventid%3D182494133
URL:https://thecollegeexperience.org/ceevents/2025-visual-arts-bfa-exhibition/
END:VEVENT
END:VCALENDAR