BEGIN:VCALENDAR
VERSION:2.0
PRODID:-//The College Experience - ECPv6.11.0//NONSGML v1.0//EN
CALSCALE:GREGORIAN
METHOD:PUBLISH
X-ORIGINAL-URL:https://thecollegeexperience.org
X-WR-CALDESC:Events for The College Experience
REFRESH-INTERVAL;VALUE=DURATION:PT1H
X-Robots-Tag:noindex
X-PUBLISHED-TTL:PT1H
BEGIN:VTIMEZONE
TZID:America/New_York
BEGIN:DAYLIGHT
TZOFFSETFROM:-0500
TZOFFSETTO:-0400
TZNAME:EDT
DTSTART:20250309T070000
END:DAYLIGHT
BEGIN:STANDARD
TZOFFSETFROM:-0400
TZOFFSETTO:-0500
TZNAME:EST
DTSTART:20251102T060000
END:STANDARD
END:VTIMEZONE
BEGIN:VEVENT
DTSTART;VALUE=DATE:20250428
DTEND;VALUE=DATE:20250503
DTSTAMP:20260422T074827
CREATED:20250428T133030Z
LAST-MODIFIED:20250428T133030Z
UID:18993-1745798400-1746230399@thecollegeexperience.org
SUMMARY:
DESCRIPTION:🗽 New York Firsts Exhibition \nWHEN: Monday to Friday\, April 7 – August 1\, 2025\, 7:00 AM – 7:00 PM \nWHERE: State Street Tunnel\, between the New York State Capitol and Empire State Plaza\, Albany\, NY \nCOST: Free \nBUS: 10\, 910\, 12 \nDETAILS: This exhibition celebrates groundbreaking innovations and historic milestones originating from New York State. Highlights include the first women’s rights convention\, advancements in LGBTQ+ advocacy\, and inventions like the safety elevator and Buffalo wings. \nWebsite: https://www.albany.org/event/new-york-firsts/52877/
URL:https://thecollegeexperience.org/ceevents/18993/
END:VEVENT
BEGIN:VEVENT
DTSTART;TZID=America/New_York:20250429T080000
DTEND;TZID=America/New_York:20250429T170000
DTSTAMP:20260422T074827
CREATED:20250428T133731Z
LAST-MODIFIED:20250428T133731Z
UID:18995-1745913600-1745946000@thecollegeexperience.org
SUMMARY:Maker's @ Albany Made Creative Lab
DESCRIPTION:🛠️ Albany Made Creative Lab \nWHEN: Tuesday\, April 29\, 2025\, 3:00 PM – 6:00 PM \nWHERE: Washington Avenue Branch\, Albany Public Library\, 161 Washington Avenue\, Albany\, NY \nCOST: Free \nBUS: 910\, 10 \nDETAILS: Self-directed open Makerspace with access to art\, music\, tech\, sewing machines\, 3D printers\, and more. \nWebsite:https://albany.librarycalendar.com/event/makers-albany-made-creative-lab-35705
URL:https://thecollegeexperience.org/ceevents/makers-albany-made-creative-lab/
END:VEVENT
BEGIN:VEVENT
DTSTART;TZID=America/New_York:20250429T180000
DTEND;TZID=America/New_York:20250429T210000
DTSTAMP:20260422T074827
CREATED:20250428T125734Z
LAST-MODIFIED:20250428T125734Z
UID:18976-1745949600-1745960400@thecollegeexperience.org
SUMMARY:Baseball! Skidmore VS Russell Sage
DESCRIPTION:⚾ (Baseball) Skidmore vs. Russell Sage College \nWHEN: Tuesday\, April 29\, 2025\, 6:00 PM – 9:00 PM \nWHERE: Plumeri Sports Complex\, 20 Frisbie Avenue\, Albany\, NY \nCOST: Free \nBUS: 910/10 to 106 or 922\,  \nDETAILS: Come out and cheer for Russell Sage College as they take on Skidmore College at the Plumeri Sports Complex in Albany. Exciting college baseball action under the evening sky! \nWebsite: https://www.sage.edu/events/?trumbaEmbed=view%3Devent%26eventid%3D180451724
URL:https://thecollegeexperience.org/ceevents/baseball-skidmore-vs-russell-sage/
END:VEVENT
BEGIN:VEVENT
DTSTART;TZID=America/New_York:20250429T190000
DTEND;TZID=America/New_York:20250429T203000
DTSTAMP:20260422T074827
CREATED:20250428T133212Z
LAST-MODIFIED:20250428T133212Z
UID:18994-1745953200-1745958600@thecollegeexperience.org
SUMMARY:Taproom Tuesday Line Dancing!
DESCRIPTION:👢 Taproom Tuesday Line Dancing \nWHEN: Tuesdays\, 7:00PM \nWHERE: Frog Alley Brewing\, Schenectady\, NY \nCOST: Free entry \nBUS: 905\, 355 \nDETAILS: Join weekly line dancing lessons at Frog Alley’s taproom. \nWebsite: https://www.discoverschenectady.com/event/taproom-tuesday-line-dancing/7218/
URL:https://thecollegeexperience.org/ceevents/taproom-tuesday-line-dancing/
END:VEVENT
END:VCALENDAR